BEGIN:VCALENDAR
VERSION:2.0
PRODID:-//Squarespace Inc/Squarespace 6//v6//EN
BEGIN:VEVENT
UID:5fd8274ed65b136a3c9cc069@squarespace.com
DTSTAMP:20201215T030731Z
DTSTART:20210226T083000Z
DTEND:20210226T093000Z
SUMMARY:Daniel Champagne at Yack Public Hall
GEO:-36.312861;146.838793
LOCATION:Yackandandah Community Centre\, 29 High Street\, Yackandandah\, VI
 C\, 3749\, Australia
END:VEVENT
END:VCALENDAR
