BEGIN:VCALENDAR
VERSION:2.0
PRODID:-//Squarespace Inc/Squarespace 6//v6//EN
BEGIN:VEVENT
UID:601a1fc76455c778927919da@squarespace.com
DTSTAMP:20210203T040553Z
DTSTART:20210217T073000Z
DTEND:20210217T093000Z
SUMMARY:Yackandandah Lions Club
GEO:-36.312861;146.838793
LOCATION:Yackandandah Community Centre\, 29 High Street\, Yackandandah\, VI
 C\, 3749\, Australia
END:VEVENT
END:VCALENDAR
