BEGIN:VCALENDAR
VERSION:2.0
PRODID:-//Squarespace Inc/Squarespace 6//v6//EN
BEGIN:VEVENT
UID:6010f19e1b252e3027a5c173@squarespace.com
DTSTAMP:20210203T003600Z
DTSTART:20210206T063000Z
DTEND:20210206T083000Z
SUMMARY:Yackandandah Community Picnic
GEO:-36.312861;146.838793
LOCATION:Yackandandah Community Centre\, 29 High Street\, Yackandandah\, VI
 C\, 3749\, Australia
END:VEVENT
END:VCALENDAR
