BEGIN:VCALENDAR
VERSION:2.0
PRODID:-//Squarespace Inc/Squarespace 6//v6//EN
BEGIN:VEVENT
UID:5e66ede52293d941d08c60bf@squarespace.com
DTSTAMP:20200310T013404Z
DTSTART:20200408T090000Z
DTEND:20200408T110000Z
SUMMARY:Arts Yackandandah presents - Rosier
END:VEVENT
END:VCALENDAR
