BEGIN:VCALENDAR
VERSION:2.0
PRODID:-//Squarespace Inc/Squarespace 6//v6//EN
BEGIN:VEVENT
UID:5e66e66bf1442d1a13b037f8@squarespace.com
DTSTAMP:20200310T011524Z
DTSTART:20200415T090000Z
DTEND:20200415T110000Z
SUMMARY:Trivia Nights @ the Bottom Pub
END:VEVENT
END:VCALENDAR
