BEGIN:VCALENDAR
VERSION:2.0
PRODID:-//Squarespace Inc/Squarespace 6//v6//EN
BEGIN:VEVENT
UID:5e5d850130220e4e39ebde13@squarespace.com
DTSTAMP:20200328T022238Z
DTSTART:20200409T233000Z
DTEND:20200410T053000Z
SUMMARY:Weaving Nature - Basketry Workshops.
END:VEVENT
END:VCALENDAR
