BEGIN:VCALENDAR
VERSION:2.0
PRODID:-//Squarespace Inc/Squarespace 6//v6//EN
BEGIN:VEVENT
UID:5e5d88452f10016a2c333bb2@squarespace.com
DTSTAMP:20200302T223034Z
DTSTART:20200331T191500Z
DTEND:20200401T100000Z
SUMMARY:Weaving Nature - Basketry Workshops.
END:VEVENT
END:VCALENDAR
