BEGIN:VCALENDAR
VERSION:2.0
PRODID:-//Squarespace Inc/Squarespace 6//v6//EN
BEGIN:VEVENT
UID:5e54835090b2290d0c0fc1d2@squarespace.com
DTSTAMP:20200225T022018Z
DTSTART:20200308T070000Z
DTEND:20200308T090000Z
SUMMARY:Gutsy Girls Adventure Film Night
END:VEVENT
END:VCALENDAR
