BEGIN:VCALENDAR
VERSION:2.0
PRODID:-//Squarespace Inc/Squarespace 6//v6//EN
BEGIN:VEVENT
UID:5e5475d7ec28285e97b36b4a@squarespace.com
DTSTAMP:20200225T014403Z
DTSTART:20200327T070000Z
DTEND:20200327T113000Z
SUMMARY:From Top To Bottom - Progressive Dinner
END:VEVENT
END:VCALENDAR
