BEGIN:VCALENDAR
VERSION:2.0
PRODID:-//Squarespace Inc/Squarespace 6//v6//EN
BEGIN:VEVENT
UID:5e66de194e508a20d34e4681@squarespace.com
DTSTAMP:20200310T005640Z
DTSTART:20200311T070000Z
DTEND:20200311T090000Z
SUMMARY:Business Q&amp\;A Meetup
END:VEVENT
END:VCALENDAR
