BEGIN:VCALENDAR
VERSION:2.0
PRODID:-//Squarespace Inc/Squarespace 6//v6//EN
BEGIN:VEVENT
UID:5e547efcb61b1e513a10041e@squarespace.com
DTSTAMP:20200225T020325Z
DTSTART:20200227T233000Z
DTEND:20200228T010000Z
SUMMARY:Indigo U3A Coffee Morning
END:VEVENT
END:VCALENDAR
