BEGIN:VCALENDAR
VERSION:2.0
PRODID:-//Squarespace Inc/Squarespace 6//v6//EN
BEGIN:VEVENT
UID:5e4374bb7bcc822d981c32df@squarespace.com
DTSTAMP:20200212T034936Z
DTSTART:20200221T090000Z
DTEND:20200221T120000Z
SUMMARY:Dean Haitani - Roots\, Blues and Soul
END:VEVENT
END:VCALENDAR
