BEGIN:VCALENDAR
VERSION:2.0
PRODID:-//Squarespace Inc/Squarespace 6//v6//EN
BEGIN:VEVENT
UID:5e435540e1841065260afa5e@squarespace.com
DTSTAMP:20200212T021844Z
DTSTART:20200214T233000Z
DTEND:20200215T010000Z
SUMMARY:Workshop: Protecting Your Home From Bushfire
END:VEVENT
END:VCALENDAR
