BEGIN:VCALENDAR
VERSION:2.0
PRODID:-//Squarespace Inc/Squarespace 6//v6//EN
BEGIN:VEVENT
UID:5e436f7f18e6e3448f1488b7@squarespace.com
DTSTAMP:20200212T055514Z
DTSTART:20200215T070000Z
DTEND:20200215T110000Z
SUMMARY:Spike and the Whisperer
END:VEVENT
END:VCALENDAR
