BEGIN:VCALENDAR
VERSION:2.0
PRODID:-//Squarespace Inc/Squarespace 6//v6//EN
BEGIN:VEVENT
UID:5fbf42143f75b16643caa390@squarespace.com
DTSTAMP:20201126T060439Z
DTSTART:20201201T063000Z
DTEND:20201201T071500Z
SUMMARY:North East Scooter and Skateboard Workshops
GEO:-36.312861;146.838793
LOCATION:Yackandandah Community Centre\, 29 High Street\, Yackandandah\, VI
 C\, 3749\, Australia
END:VEVENT
END:VCALENDAR
