BEGIN:VCALENDAR
VERSION:2.0
PRODID:-//Squarespace Inc/Squarespace 6//v6//EN
BEGIN:VEVENT
UID:5fbf45773f75b16643cae333@squarespace.com
DTSTAMP:20201126T060516Z
DTSTART:20201201T053000Z
DTEND:20201201T061500Z
SUMMARY:North East Scooter and Skateboard Workshops (Copy)
GEO:-36.312861;146.838793
LOCATION:Yackandandah Community Centre\, 29 High Street\, Yackandandah\, VI
 C\, 3749\, Australia
END:VEVENT
END:VCALENDAR
