BEGIN:VCALENDAR
VERSION:2.0
PRODID:-//Squarespace Inc/Squarespace 6//v6//EN
BEGIN:VEVENT
UID:5f837d50f3d79504e73b9d7b@squarespace.com
DTSTAMP:20201011T215526Z
DTSTART:20201015T090000Z
DTEND:20201015T110000Z
SUMMARY:Yackandandah CFA Brigade - Virtual Open Day
END:VEVENT
END:VCALENDAR
