BEGIN:VCALENDAR
VERSION:2.0
PRODID:-//Squarespace Inc/Squarespace 6//v6//EN
BEGIN:VEVENT
UID:5cf84f1419149500018a8edd@squarespace.com
DTSTAMP:20190611T012551Z
DTSTART:20190706T040000Z
DTEND:20190706T060000Z
SUMMARY:Community Clothes Swap
END:VEVENT
END:VCALENDAR
