BEGIN:VCALENDAR
VERSION:2.0
PRODID:-//Squarespace Inc/Squarespace 6//v6//EN
BEGIN:VEVENT
UID:5d243373cb08f70001c159e0@squarespace.com
DTSTAMP:20190709T062923Z
DTSTART:20190717T083000Z
DTEND:20190717T103000Z
SUMMARY:Watoto - Children's Choir
END:VEVENT
END:VCALENDAR
