BEGIN:VCALENDAR
VERSION:2.0
PRODID:-//Squarespace Inc/Squarespace 6//v6//EN
BEGIN:VEVENT
UID:5d082a92b2b8fe0001369e11@squarespace.com
DTSTAMP:20190618T001852Z
DTSTART:20190713T030000Z
DTEND:20190713T120000Z
SUMMARY:Arts Yackandandah - French Film Festival
END:VEVENT
END:VCALENDAR
