BEGIN:VCALENDAR
VERSION:2.0
PRODID:-//Squarespace Inc/Squarespace 6//v6//EN
BEGIN:VEVENT
UID:5cd3709bbd02f0000138d685@squarespace.com
DTSTAMP:20190509T004811Z
DTSTART:20190608T091500Z
DTEND:20190608T113000Z
SUMMARY:The Bikes of Wrath
END:VEVENT
END:VCALENDAR
