BEGIN:VCALENDAR
VERSION:2.0
PRODID:-//Squarespace Inc/Squarespace 6//v6//EN
BEGIN:VEVENT
UID:5cf5aeded7ed580001e0bada@squarespace.com
DTSTAMP:20190603T233742Z
DTSTART:20190605T233000Z
DTEND:20190606T003000Z
SUMMARY: Yack Beekeeping Club 
END:VEVENT
END:VCALENDAR
