BEGIN:VCALENDAR
VERSION:2.0
PRODID:-//Squarespace Inc/Squarespace 6//v6//EN
BEGIN:VEVENT
UID:5cf5af74a0c26600017d8509@squarespace.com
DTSTAMP:20190603T233909Z
DTSTART:20190703T233000Z
DTEND:20190704T003000Z
SUMMARY:Yack Beekeeping Club 
END:VEVENT
END:VCALENDAR
