BEGIN:VCALENDAR
VERSION:2.0
PRODID:-//Squarespace Inc/Squarespace 6//v6//EN
BEGIN:VEVENT
UID:5d01e8a40559da0001db9d02@squarespace.com
DTSTAMP:20190613T064013Z
DTSTART:20190622T060000Z
DTEND:20190622T090000Z
SUMMARY:Yack Community Garden - Winter Solstice Pizza Night
END:VEVENT
END:VCALENDAR
