BEGIN:VCALENDAR
VERSION:2.0
PRODID:-//Squarespace Inc/Squarespace 6//v6//EN
BEGIN:VEVENT
UID:5cc8d8b07817f7a7e97090a9@squarespace.com
DTSTAMP:20190501T055059Z
DTSTART:20190622T100000Z
DTEND:20190622T130000Z
SUMMARY:BABBA - Tribute to ABBA
END:VEVENT
END:VCALENDAR
