BEGIN:VCALENDAR
VERSION:2.0
PRODID:-//Squarespace Inc/Squarespace 6//v6//EN
BEGIN:VEVENT
UID:5cff46ffb2267d00013b968d@squarespace.com
DTSTAMP:20190611T062140Z
DTSTART:20190612T080000Z
DTEND:20190612T110000Z
SUMMARY:YCC Chainsaw Course
END:VEVENT
END:VCALENDAR
