BEGIN:VCALENDAR
VERSION:2.0
PRODID:-//Squarespace Inc/Squarespace 6//v6//EN
BEGIN:VEVENT
UID:5cf89d2999ce6400018e522b@squarespace.com
DTSTAMP:20190606T051820Z
DTSTART:20190611T080000Z
DTEND:20190611T090000Z
SUMMARY:Indigo Shire - Yackandandah Community Forum
END:VEVENT
END:VCALENDAR
