BEGIN:VCALENDAR
VERSION:2.0
PRODID:-//Squarespace Inc/Squarespace 6//v6//EN
BEGIN:VEVENT
UID:5cc91dc7426d9e000176aa27@squarespace.com
DTSTAMP:20190501T044224Z
DTSTART:20190509T080000Z
DTEND:20190509T100000Z
SUMMARY:LOVE YACK - Workshop
END:VEVENT
END:VCALENDAR
