BEGIN:VCALENDAR
VERSION:2.0
PRODID:-//Squarespace Inc/Squarespace 6//v6//EN
BEGIN:VEVENT
UID:5cc92332fa0d603a57379b6c@squarespace.com
DTSTAMP:20190501T045317Z
DTSTART:20190510T080000Z
DTEND:20190510T100000Z
SUMMARY:LOVE YACK - Pub Chats
END:VEVENT
END:VCALENDAR
