BEGIN:VCALENDAR
VERSION:2.0
PRODID:-//Squarespace Inc/Squarespace 6//v6//EN
BEGIN:VEVENT
UID:5cc923b7e2c483c67349eae3@squarespace.com
DTSTAMP:20190501T044942Z
DTSTART:20190511T000000Z
DTEND:20190511T020000Z
SUMMARY:LOVE YACK - Workshop
END:VEVENT
END:VCALENDAR
