BEGIN:VCALENDAR
VERSION:2.0
PRODID:-//Squarespace Inc/Squarespace 6//v6//EN
BEGIN:VEVENT
UID:5cc9211d7817f7a7e972f1a2@squarespace.com
DTSTAMP:20190501T044816Z
DTSTART:20190508T050000Z
DTEND:20190508T070000Z
SUMMARY:LOVE YACK - Outdoor Pop Up
END:VEVENT
END:VCALENDAR
