BEGIN:VCALENDAR
VERSION:2.0
PRODID:-//Squarespace Inc/Squarespace 6//v6//EN
BEGIN:VEVENT
UID:5cc9215853450a0e1da04f24@squarespace.com
DTSTAMP:20190501T043725Z
DTSTART:20190509T080000Z
DTEND:20190509T100000Z
SUMMARY:LOVE YACK - Pub Chat
END:VEVENT
END:VCALENDAR
