BEGIN:VCALENDAR
VERSION:2.0
PRODID:-//Squarespace Inc/Squarespace 6//v6//EN
BEGIN:VEVENT
UID:5cc922f471c10b013ff00ea8@squarespace.com
DTSTAMP:20190501T045552Z
DTSTART:20190511T010000Z
DTEND:20190511T030000Z
SUMMARY:LOVE YACK - Outdoor Pop Up
END:VEVENT
END:VCALENDAR
