BEGIN:VCALENDAR
VERSION:2.0
PRODID:-//Squarespace Inc/Squarespace 6//v6//EN
BEGIN:VEVENT
UID:5cc9258fd90fb2000164a217@squarespace.com
DTSTAMP:20190501T045130Z
DTSTART:20190509T000000Z
DTEND:20190509T020000Z
SUMMARY:LOVE YACK - Outdoor Pop Up
END:VEVENT
END:VCALENDAR
