BEGIN:VCALENDAR
VERSION:2.0
PRODID:-//Squarespace Inc/Squarespace 6//v6//EN
BEGIN:VEVENT
UID:5cbebd6253450a1e7cae9faa@squarespace.com
DTSTAMP:20190423T073414Z
DTSTART:20190503T230000Z
DTEND:20190504T050000Z
SUMMARY:Indigo FM Record Fair
END:VEVENT
END:VCALENDAR
