BEGIN:VCALENDAR
VERSION:2.0
PRODID:-//Squarespace Inc/Squarespace 6//v6//EN
BEGIN:VEVENT
UID:5ce3a4d5403ceb000131c34e@squarespace.com
DTSTAMP:20190521T072010Z
DTSTART:20190528T083000Z
DTEND:20190528T103000Z
SUMMARY:Digital Storytelling Workshop
END:VEVENT
END:VCALENDAR
