BEGIN:VCALENDAR
VERSION:2.0
PRODID:-//Squarespace Inc/Squarespace 6//v6//EN
BEGIN:VEVENT
UID:5ce380feef6f6100012c1fca@squarespace.com
DTSTAMP:20190521T045106Z
DTSTART:20190524T003000Z
DTEND:20190524T013000Z
SUMMARY:Yack Bowls Club - Biggest Morning Tea.
END:VEVENT
END:VCALENDAR
