BEGIN:VCALENDAR
VERSION:2.0
PRODID:-//Squarespace Inc/Squarespace 6//v6//EN
BEGIN:VEVENT
UID:5ce4cda3de1c3c0001aa64e9@squarespace.com
DTSTAMP:20190522T042032Z
DTSTART:20190522T043000Z
DTEND:20190522T053000Z
SUMMARY:yujmyumyuyu
END:VEVENT
END:VCALENDAR
