BEGIN:VCALENDAR
VERSION:2.0
PRODID:-//Squarespace Inc/Squarespace 6//v6//EN
BEGIN:VEVENT
UID:5cabe6154e17b61fffbc63ba@squarespace.com
DTSTAMP:20190423T072304Z
DTSTART:20190518T093000Z
DTEND:20190518T113000Z
SUMMARY:Ecopella Choir - TRY Fundraiser.
END:VEVENT
END:VCALENDAR
