BEGIN:VCALENDAR
VERSION:2.0
PRODID:-//Squarespace Inc/Squarespace 6//v6//EN
BEGIN:VEVENT
UID:5cb510d39b747a6375c06ae7@squarespace.com
DTSTAMP:20190415T232703Z
DTSTART:20190511T020000Z
DTEND:20190511T040000Z
SUMMARY:Mother's Day High Tea
END:VEVENT
END:VCALENDAR
