BEGIN:VCALENDAR
VERSION:2.0
PRODID:-//Squarespace Inc/Squarespace 6//v6//EN
BEGIN:VEVENT
UID:5cc8dbf07817f7a7e970ada5@squarespace.com
DTSTAMP:20190430T234329Z
DTSTART:20190525T093000Z
DTEND:20190525T123000Z
SUMMARY:Yes\, Prime Minister
END:VEVENT
END:VCALENDAR
