BEGIN:VCALENDAR
VERSION:2.0
PRODID:-//Squarespace Inc/Squarespace 6//v6//EN
BEGIN:VEVENT
UID:5ca41ac36e9a7f5e6c558abc@squarespace.com
DTSTAMP:20190403T023400Z
DTSTART:20190404T103000Z
DTEND:20190404T113000Z
SUMMARY:Charm of Finches
END:VEVENT
END:VCALENDAR
