BEGIN:VCALENDAR
VERSION:2.0
PRODID:-//Squarespace Inc/Squarespace 6//v6//EN
BEGIN:VEVENT
UID:5cc7e6445cd2630001870f4e@squarespace.com
DTSTAMP:20190430T061544Z
DTSTART:20190430T063000Z
DTEND:20190430T073000Z
SUMMARY:The Anecdote @ Grace's Place
END:VEVENT
END:VCALENDAR
