BEGIN:VCALENDAR
VERSION:2.0
PRODID:-//Squarespace Inc/Squarespace 6//v6//EN
BEGIN:VEVENT
UID:5c3ff8eacd8366946e70f459@squarespace.com
DTSTAMP:20190117T040437Z
DTSTART:20190428T050000Z
DTEND:20190428T070000Z
SUMMARY:Troy Cassar-Daley - Greatest hits Tour
END:VEVENT
END:VCALENDAR
