BEGIN:VCALENDAR
VERSION:2.0
PRODID:-//Squarespace Inc/Squarespace 6//v6//EN
BEGIN:VEVENT
UID:5ca5694a4e17b66a2a77aac5@squarespace.com
DTSTAMP:20190404T022541Z
DTSTART:20190420T000000Z
DTEND:20190420T020000Z
SUMMARY:Soil pH: Yackandandah Community Garden workshop
END:VEVENT
END:VCALENDAR
