BEGIN:VCALENDAR
VERSION:2.0
PRODID:-//Squarespace Inc/Squarespace 6//v6//EN
BEGIN:VEVENT
UID:5c9aa4c0eef1a19ff5f4e921@squarespace.com
DTSTAMP:20190326T223426Z
DTSTART:20190402T070000Z
DTEND:20190402T100000Z
SUMMARY:Yackandandah Community Centre AGM
END:VEVENT
END:VCALENDAR
