BEGIN:VCALENDAR
VERSION:2.0
PRODID:-//Squarespace Inc/Squarespace 6//v6//EN
BEGIN:VEVENT
UID:5c808d6de79c700b22b0f1e7@squarespace.com
DTSTAMP:20190307T033117Z
DTSTART:20190413T091500Z
DTEND:20190413T123000Z
SUMMARY:Arts Yackandandah: Flickside
END:VEVENT
END:VCALENDAR
