BEGIN:VCALENDAR
VERSION:2.0
PRODID:-//Squarespace Inc/Squarespace 6//v6//EN
BEGIN:VEVENT
UID:5c809417e2c483d932a4e05a@squarespace.com
DTSTAMP:20190307T040402Z
DTSTART:20190308T230000Z
DTEND:20190309T040000Z
SUMMARY:Exhibition: "A Time Before" by Central Arrernte Artist Stephen Berg
 er.
END:VEVENT
END:VCALENDAR
