BEGIN:VCALENDAR
VERSION:2.0
PRODID:-//Squarespace Inc/Squarespace 6//v6//EN
BEGIN:VEVENT
UID:5c6b50b7eef1a1de5b1d708a@squarespace.com
DTSTAMP:20190219T004907Z
DTSTART:20190304T230000Z
DTEND:20190305T010000Z
SUMMARY:Australian Breastfeeding Association Meeting
END:VEVENT
END:VCALENDAR
