BEGIN:VCALENDAR
VERSION:2.0
PRODID:-//Squarespace Inc/Squarespace 6//v6//EN
BEGIN:VEVENT
UID:5c6b539b4e17b6274833d9b1@squarespace.com
DTSTAMP:20190224T052422Z
DTSTART:20190723T000000Z
DTEND:20190723T020000Z
SUMMARY:Australian Breastfeeding Association Meeting
END:VEVENT
END:VCALENDAR
